BEGIN:VCALENDAR
VERSION:2.0
PRODID:-//smileSBC - ECPv6.15.14//NONSGML v1.0//EN
CALSCALE:GREGORIAN
METHOD:PUBLISH
X-ORIGINAL-URL:https://smilesbc.org
X-WR-CALDESC:Events for smileSBC
REFRESH-INTERVAL;VALUE=DURATION:PT1H
X-Robots-Tag:noindex
X-PUBLISHED-TTL:PT1H
BEGIN:VTIMEZONE
TZID:America/Los_Angeles
BEGIN:DAYLIGHT
TZOFFSETFROM:-0800
TZOFFSETTO:-0700
TZNAME:PDT
DTSTART:20240310T100000
END:DAYLIGHT
BEGIN:STANDARD
TZOFFSETFROM:-0700
TZOFFSETTO:-0800
TZNAME:PST
DTSTART:20241103T090000
END:STANDARD
BEGIN:DAYLIGHT
TZOFFSETFROM:-0800
TZOFFSETTO:-0700
TZNAME:PDT
DTSTART:20250309T100000
END:DAYLIGHT
BEGIN:STANDARD
TZOFFSETFROM:-0700
TZOFFSETTO:-0800
TZNAME:PST
DTSTART:20251102T090000
END:STANDARD
BEGIN:DAYLIGHT
TZOFFSETFROM:-0800
TZOFFSETTO:-0700
TZNAME:PDT
DTSTART:20260308T100000
END:DAYLIGHT
BEGIN:STANDARD
TZOFFSETFROM:-0700
TZOFFSETTO:-0800
TZNAME:PST
DTSTART:20261101T090000
END:STANDARD
END:VTIMEZONE
BEGIN:VEVENT
DTSTART;TZID=America/Los_Angeles:20250425T160000
DTEND;TZID=America/Los_Angeles:20250425T180000
DTSTAMP:20260420T162255
CREATED:20250227T231350Z
LAST-MODIFIED:20250227T231350Z
UID:10001761-1745596800-1745604000@smilesbc.org
SUMMARY:International Children's Day - Apple Valley Unified School District
DESCRIPTION:
URL:https://smilesbc.org/event/international-childrens-day-apple-valley-unified-school-district/
LOCATION:Apple Valley Unified School District\, 12555 Navajo Rd.\,\, Apple Valley\, California\, 92308
END:VEVENT
END:VCALENDAR