BEGIN:VCALENDAR
VERSION:2.0
PRODID:-//smileSBC - ECPv6.15.14//NONSGML v1.0//EN
CALSCALE:GREGORIAN
METHOD:PUBLISH
X-ORIGINAL-URL:https://smilesbc.org
X-WR-CALDESC:Events for smileSBC
REFRESH-INTERVAL;VALUE=DURATION:PT1H
X-Robots-Tag:noindex
X-PUBLISHED-TTL:PT1H
BEGIN:VTIMEZONE
TZID:America/Los_Angeles
BEGIN:DAYLIGHT
TZOFFSETFROM:-0800
TZOFFSETTO:-0700
TZNAME:PDT
DTSTART:20230312T100000
END:DAYLIGHT
BEGIN:STANDARD
TZOFFSETFROM:-0700
TZOFFSETTO:-0800
TZNAME:PST
DTSTART:20231105T090000
END:STANDARD
BEGIN:DAYLIGHT
TZOFFSETFROM:-0800
TZOFFSETTO:-0700
TZNAME:PDT
DTSTART:20240310T100000
END:DAYLIGHT
BEGIN:STANDARD
TZOFFSETFROM:-0700
TZOFFSETTO:-0800
TZNAME:PST
DTSTART:20241103T090000
END:STANDARD
BEGIN:DAYLIGHT
TZOFFSETFROM:-0800
TZOFFSETTO:-0700
TZNAME:PDT
DTSTART:20250309T100000
END:DAYLIGHT
BEGIN:STANDARD
TZOFFSETFROM:-0700
TZOFFSETTO:-0800
TZNAME:PST
DTSTART:20251102T090000
END:STANDARD
END:VTIMEZONE
BEGIN:VEVENT
DTSTART;TZID=America/Los_Angeles:20240427T080000
DTEND;TZID=America/Los_Angeles:20240427T130000
DTSTAMP:20260420T064704
CREATED:20240410T181801Z
LAST-MODIFIED:20240410T181801Z
UID:10001669-1714204800-1714222800@smilesbc.org
SUMMARY:Community Health Fair and Vision Screening
DESCRIPTION:
URL:https://smilesbc.org/event/community-health-fair-and-vision-screening/
LOCATION:Church of the Valley\, 20700 Standing Rock Avenue\, Apple Valley\, CA\, 92307\, United States
END:VEVENT
END:VCALENDAR