BEGIN:VCALENDAR
VERSION:2.0
PRODID:-//smileSBC - ECPv6.15.14//NONSGML v1.0//EN
CALSCALE:GREGORIAN
METHOD:PUBLISH
X-ORIGINAL-URL:https://smilesbc.org
X-WR-CALDESC:Events for smileSBC
REFRESH-INTERVAL;VALUE=DURATION:PT1H
X-Robots-Tag:noindex
X-PUBLISHED-TTL:PT1H
BEGIN:VTIMEZONE
TZID:America/Los_Angeles
BEGIN:DAYLIGHT
TZOFFSETFROM:-0800
TZOFFSETTO:-0700
TZNAME:PDT
DTSTART:20230312T100000
END:DAYLIGHT
BEGIN:STANDARD
TZOFFSETFROM:-0700
TZOFFSETTO:-0800
TZNAME:PST
DTSTART:20231105T090000
END:STANDARD
BEGIN:DAYLIGHT
TZOFFSETFROM:-0800
TZOFFSETTO:-0700
TZNAME:PDT
DTSTART:20240310T100000
END:DAYLIGHT
BEGIN:STANDARD
TZOFFSETFROM:-0700
TZOFFSETTO:-0800
TZNAME:PST
DTSTART:20241103T090000
END:STANDARD
BEGIN:DAYLIGHT
TZOFFSETFROM:-0800
TZOFFSETTO:-0700
TZNAME:PDT
DTSTART:20250309T100000
END:DAYLIGHT
BEGIN:STANDARD
TZOFFSETFROM:-0700
TZOFFSETTO:-0800
TZNAME:PST
DTSTART:20251102T090000
END:STANDARD
END:VTIMEZONE
BEGIN:VEVENT
DTSTART;TZID=America/Los_Angeles:20241004T140000
DTEND;TZID=America/Los_Angeles:20241004T180000
DTSTAMP:20260420T162829
CREATED:20240925T221344Z
LAST-MODIFIED:20240925T221344Z
UID:10001728-1728050400-1728064800@smilesbc.org
SUMMARY:Preschool Services Resource Fair
DESCRIPTION:
URL:https://smilesbc.org/event/preschool-services-resource-fair/
LOCATION:Mill Center Head Start State Preschool\, 205 S. Allen St.\, San Bernardino\, CA\, 92408\, United States
END:VEVENT
END:VCALENDAR